BEGIN:VCALENDAR
VERSION:2.0
PRODID:-//time.now/holidays//NONSGML v1.0//EN
BEGIN:VEVENT
UID:61db02bf-ae99-4436-98ed-cc4da04f8713
DTSTAMP:20260420T070140Z
DTSTART;VALUE=DATE:20260825
SUMMARY:Mawlid (estimated) (Tchad)
END:VEVENT
END:VCALENDAR