BEGIN:VCALENDAR
VERSION:2.0
PRODID:-//time.now/holidays//NONSGML v1.0//EN
BEGIN:VEVENT
UID:c7022c21-0f5a-4bab-b09f-44d41323a249
DTSTAMP:20260420T194029Z
DTSTART;VALUE=DATE:20260308
SUMMARY:International Women's Day (Tchad)
END:VEVENT
END:VCALENDAR