BEGIN:VCALENDAR
VERSION:2.0
PRODID:-//time.now/holidays//NONSGML v1.0//EN
BEGIN:VEVENT
UID:079d6375-3529-4e1d-853b-2ec827d6aba7
DTSTAMP:20260420T212354Z
DTSTART;VALUE=DATE:20260309
SUMMARY:International Women's Day (observed) (Tchad)
END:VEVENT
END:VCALENDAR