BEGIN:VCALENDAR
VERSION:2.0
PRODID:-//time.now/holidays//NONSGML v1.0//EN
BEGIN:VEVENT
UID:48fa011f-fd97-491c-868c-4d6582f82c05
DTSTAMP:20260420T014035Z
DTSTART;VALUE=DATE:20260811
SUMMARY:Independence Day (Tchad)
END:VEVENT
END:VCALENDAR