BEGIN:VCALENDAR
VERSION:2.0
PRODID:-//time.now/holidays//NONSGML v1.0//EN
BEGIN:VEVENT
UID:da6d7942-6f62-4a00-97e8-9681aea5bd1b
DTSTAMP:20260420T213716Z
DTSTART;VALUE=DATE:20220502
SUMMARY:Eid al-Fitr; Labour Day (observed) (Tchad)
END:VEVENT
END:VCALENDAR