BEGIN:VCALENDAR
VERSION:2.0
PRODID:-//time.now/holidays//NONSGML v1.0//EN
BEGIN:VEVENT
UID:ee6ef90f-4a10-4c01-9e8a-e7feb773b150
DTSTAMP:20260420T170134Z
DTSTART;VALUE=DATE:20260320
SUMMARY:Eid al-Fitr (estimated) (Tchad)
END:VEVENT
END:VCALENDAR