BEGIN:VCALENDAR
VERSION:2.0
PRODID:-//time.now/holidays//NONSGML v1.0//EN
BEGIN:VEVENT
UID:3f0af19c-120c-4fee-b0ae-7312eba60502
DTSTAMP:20260420T125301Z
DTSTART;VALUE=DATE:20260527
SUMMARY:Eid al-Adha (estimated) (Tchad)
END:VEVENT
END:VCALENDAR