BEGIN:VCALENDAR
VERSION:2.0
PRODID:-//time.now/holidays//NONSGML v1.0//EN
BEGIN:VEVENT
UID:14ed5e2c-6a40-4964-880c-44924c3dc535
DTSTAMP:20260420T073904Z
DTSTART;VALUE=DATE:20281113
SUMMARY:Remembrance Day (observed) (Canada)
END:VEVENT
END:VCALENDAR