BEGIN:VCALENDAR
VERSION:2.0
PRODID:-//time.now/holidays//NONSGML v1.0//EN
BEGIN:VEVENT
UID:53d7b77b-801f-4b8e-9b1e-b6d28e6dc642
DTSTAMP:20260420T144139Z
DTSTART;VALUE=DATE:20260803
SUMMARY:New Brunswick Day (Canada)
END:VEVENT
END:VCALENDAR