BEGIN:VCALENDAR
VERSION:2.0
PRODID:-//time.now/holidays//NONSGML v1.0//EN
BEGIN:VEVENT
UID:b97feff8-9168-4301-9ad1-8afc3197e2cc
DTSTAMP:20260422T091037Z
DTSTART;VALUE=DATE:20260930
SUMMARY:National Day for Truth and Reconciliation (Canada)
END:VEVENT
END:VCALENDAR