BEGIN:VCALENDAR
VERSION:2.0
PRODID:-//time.now/holidays//NONSGML v1.0//EN
BEGIN:VEVENT
UID:27b9636f-98a2-45f5-9235-abe7277f8559
DTSTAMP:20260420T032157Z
DTSTART;VALUE=DATE:20260907
SUMMARY:Labor Day (Canada)
END:VEVENT
END:VCALENDAR