BEGIN:VCALENDAR
VERSION:2.0
PRODID:-//time.now/holidays//NONSGML v1.0//EN
BEGIN:VEVENT
UID:ee1cf1fe-bf6e-4963-b6ed-58169e5982d7
DTSTAMP:20260422T105205Z
DTSTART;VALUE=DATE:20220919
SUMMARY:Funeral of Her Majesty the Queen Elizabeth II (Canada)
END:VEVENT
END:VCALENDAR