BEGIN:VCALENDAR
VERSION:2.0
PRODID:-//time.now/holidays//NONSGML v1.0//EN
BEGIN:VEVENT
UID:102d4338-edd0-4d82-8189-6c0c31892e52
DTSTAMP:20260420T115806Z
DTSTART;VALUE=DATE:20260803
SUMMARY:Civic Holiday (Canada)
END:VEVENT
END:VCALENDAR