BEGIN:VCALENDAR
VERSION:2.0
PRODID:-//time.now/holidays//NONSGML v1.0//EN
BEGIN:VEVENT
UID:21bd090f-3955-4b09-a2fa-8de1ed69599a
DTSTAMP:20260420T170030Z
DTSTART;VALUE=DATE:20260803
SUMMARY:British Columbia Day (Canada)
END:VEVENT
END:VCALENDAR