BEGIN:VCALENDAR
VERSION:2.0
PRODID:-//time.now/holidays//NONSGML v1.0//EN
BEGIN:VEVENT
UID:6458a0b3-bcb6-4dbe-acfa-f68a6d913652
DTSTAMP:20260420T091934Z
DTSTART;VALUE=DATE:20271228
SUMMARY:Boxing Day (observed) (Canada)
END:VEVENT
END:VCALENDAR