BEGIN:VCALENDAR
VERSION:2.0
PRODID:-//time.now/holidays//NONSGML v1.0//EN
BEGIN:VEVENT
UID:6a687fac-ff89-4ff8-83a9-fe769bb0ab89
DTSTAMP:20260420T150110Z
DTSTART;VALUE=DATE:20290212
SUMMARY:Youth Day (observed) (Cameroun)
END:VEVENT
END:VCALENDAR