BEGIN:VCALENDAR
VERSION:2.0
PRODID:-//time.now/holidays//NONSGML v1.0//EN
BEGIN:VEVENT
UID:53d752aa-2118-474f-8147-b03c7b81f8a3
DTSTAMP:20260420T174417Z
DTSTART;VALUE=DATE:20260101
SUMMARY:New Year's Day (Cameroun)
END:VEVENT
END:VCALENDAR