BEGIN:VCALENDAR
VERSION:2.0
PRODID:-//time.now/holidays//NONSGML v1.0//EN
BEGIN:VEVENT
UID:5e041b90-8bc6-436f-85e3-20e7a6ba62e8
DTSTAMP:20260420T093019Z
DTSTART;VALUE=DATE:20260520
SUMMARY:National Day (Cameroun)
END:VEVENT
END:VCALENDAR