BEGIN:VCALENDAR
VERSION:2.0
PRODID:-//time.now/holidays//NONSGML v1.0//EN
BEGIN:VEVENT
UID:ee51a45d-c95b-4bdd-b731-bdfd67731266
DTSTAMP:20260420T010659Z
DTSTART;VALUE=DATE:20221008
SUMMARY:Mawlid (Cameroun)
END:VEVENT
END:VCALENDAR