BEGIN:VCALENDAR
VERSION:2.0
PRODID:-//time.now/holidays//NONSGML v1.0//EN
BEGIN:VEVENT
UID:6f405c3b-efca-4c10-bc49-8c24cee98ac5
DTSTAMP:20260420T052133Z
DTSTART;VALUE=DATE:20260825
SUMMARY:Mawlid (estimated) (Cameroun)
END:VEVENT
END:VCALENDAR