BEGIN:VCALENDAR
VERSION:2.0
PRODID:-//time.now/holidays//NONSGML v1.0//EN
BEGIN:VEVENT
UID:82c00207-fa86-4f84-97b1-0c597236e066
DTSTAMP:20260420T105136Z
DTSTART;VALUE=DATE:20320621
SUMMARY:Mawlid (estimated) (observed) (Cameroun)
END:VEVENT
END:VCALENDAR