BEGIN:VCALENDAR
VERSION:2.0
PRODID:-//time.now/holidays//NONSGML v1.0//EN
BEGIN:VEVENT
UID:2a59ec94-6bb0-4c94-a04a-33ebb764f205
DTSTAMP:20260419T235426Z
DTSTART;VALUE=DATE:20260403
SUMMARY:Good Friday (Cameroun)
END:VEVENT
END:VCALENDAR