BEGIN:VCALENDAR
VERSION:2.0
PRODID:-//time.now/holidays//NONSGML v1.0//EN
BEGIN:VEVENT
UID:599a9105-3bf8-4c60-937f-a35cd41e6eca
DTSTAMP:20260420T170011Z
DTSTART;VALUE=DATE:20260320
SUMMARY:Eid al-Fitr (estimated) (Cameroun)
END:VEVENT
END:VCALENDAR