BEGIN:VCALENDAR
VERSION:2.0
PRODID:-//time.now/holidays//NONSGML v1.0//EN
BEGIN:VEVENT
UID:28caa519-dc2f-41d5-be85-5af931791022
DTSTAMP:20260420T164724Z
DTSTART;VALUE=DATE:20270520
SUMMARY:Visaka Bochea Day (Cambodge)
END:VEVENT
END:VCALENDAR