BEGIN:VCALENDAR
VERSION:2.0
PRODID:-//time.now/holidays//NONSGML v1.0//EN
BEGIN:VEVENT
UID:338f8556-74e0-4747-8b48-796fa58d562c
DTSTAMP:20260422T103910Z
DTSTART;VALUE=DATE:20301109
SUMMARY:National Independence Day; Water Festival (Cambodge)
END:VEVENT
END:VCALENDAR