BEGIN:VCALENDAR
VERSION:2.0
PRODID:-//time.now/holidays//NONSGML v1.0//EN
BEGIN:VEVENT
UID:1d58805b-8561-4793-8045-10d160db2704
DTSTAMP:20260422T161635Z
DTSTART;VALUE=DATE:20260107
SUMMARY:Day of Victory over the Genocidal Regime (Cambodge)
END:VEVENT
END:VCALENDAR