BEGIN:VCALENDAR
VERSION:2.0
PRODID:-//time.now/holidays//NONSGML v1.0//EN
BEGIN:VEVENT
UID:b72acde5-e4c3-4a05-9da3-7ef966a2c89f
DTSTAMP:20260420T205212Z
DTSTART;VALUE=DATE:20261021
SUMMARY:President Ndadaye's Day (Burundi)
END:VEVENT
END:VCALENDAR