BEGIN:VCALENDAR
VERSION:2.0
PRODID:-//time.now/holidays//NONSGML v1.0//EN
BEGIN:VEVENT
UID:27428a24-324d-4de1-a06a-e7a9045c7371
DTSTAMP:20260420T172236Z
DTSTART;VALUE=DATE:20260101
SUMMARY:New Year's Day (Burundi)
END:VEVENT
END:VCALENDAR