BEGIN:VCALENDAR
VERSION:2.0
PRODID:-//time.now/holidays//NONSGML v1.0//EN
BEGIN:VEVENT
UID:c0c1be9b-0c25-4909-afca-74032e0f1dd9
DTSTAMP:20260420T201404Z
DTSTART;VALUE=DATE:20340102
SUMMARY:New Year's Day (observed) (Burundi)
END:VEVENT
END:VCALENDAR