BEGIN:VCALENDAR
VERSION:2.0
PRODID:-//time.now/holidays//NONSGML v1.0//EN
BEGIN:VEVENT
UID:15b59476-af9c-4beb-aad6-776dd6152f45
DTSTAMP:20260420T080255Z
DTSTART;VALUE=DATE:20260501
SUMMARY:Labour Day (Burundi)
END:VEVENT
END:VCALENDAR