BEGIN:VCALENDAR
VERSION:2.0
PRODID:-//time.now/holidays//NONSGML v1.0//EN
BEGIN:VEVENT
UID:b794f286-064c-42ca-94e9-2dbc6cb6fbf9
DTSTAMP:20260420T072859Z
DTSTART;VALUE=DATE:20260815
SUMMARY:Assumption Day (Burundi)
END:VEVENT
END:VCALENDAR