BEGIN:VCALENDAR
VERSION:2.0
PRODID:-//time.now/holidays//NONSGML v1.0//EN
BEGIN:VEVENT
UID:41e06d53-dc15-4a60-abf6-42b268d0f94c
DTSTAMP:20260420T125449Z
DTSTART;VALUE=DATE:20270816
SUMMARY:Assumption Day (observed) (Burundi)
END:VEVENT
END:VCALENDAR