BEGIN:VCALENDAR
VERSION:2.0
PRODID:-//time.now/holidays//NONSGML v1.0//EN
BEGIN:VEVENT
UID:4e837654-d155-46ca-a4b0-1659d0ae6e9c
DTSTAMP:20260422T222934Z
DTSTART;VALUE=DATE:20210513
SUMMARY:Ascension Day; Eid ul Fitr (estimated) (Burundi)
END:VEVENT
END:VCALENDAR