BEGIN:VCALENDAR
VERSION:2.0
PRODID:-//time.now/holidays//NONSGML v1.0//EN
BEGIN:VEVENT
UID:5a3c2743-4b1c-46fa-8a9f-03ae7e75552b
DTSTAMP:20260420T123730Z
DTSTART;VALUE=DATE:20261101
SUMMARY:All Saints' Day (Burundi)
END:VEVENT
END:VCALENDAR