BEGIN:VCALENDAR
VERSION:2.0
PRODID:-//time.now/holidays//NONSGML v1.0//EN
BEGIN:VEVENT
UID:da26918d-66fd-4b64-a62a-6b1492718f49
DTSTAMP:20260420T195605Z
DTSTART;VALUE=DATE:20261102
SUMMARY:All Saints' Day (observed) (Burundi)
END:VEVENT
END:VCALENDAR