BEGIN:VCALENDAR
VERSION:2.0
PRODID:-//time.now/holidays//NONSGML v1.0//EN
BEGIN:VEVENT
UID:5b477081-9fb4-40f4-a4d9-ed94a2ff7dd3
DTSTAMP:20260422T091241Z
DTSTART;VALUE=DATE:20260825
SUMMARY:Mawlid (estimated) (Burkina Faso)
END:VEVENT
END:VCALENDAR