BEGIN:VCALENDAR
VERSION:2.0
PRODID:-//time.now/holidays//NONSGML v1.0//EN
BEGIN:VEVENT
UID:853f9dc2-c8c2-4849-906e-a59776489d37
DTSTAMP:20260422T151535Z
DTSTART;VALUE=DATE:20260501
SUMMARY:Labour Day (Burkina Faso)
END:VEVENT
END:VCALENDAR