BEGIN:VCALENDAR
VERSION:2.0
PRODID:-//time.now/holidays//NONSGML v1.0//EN
BEGIN:VEVENT
UID:0fef3615-bd07-424f-bde1-9de9313b582b
DTSTAMP:20260422T104100Z
DTSTART;VALUE=DATE:20260309
SUMMARY:International Women's Day (observed) (Burkina Faso)
END:VEVENT
END:VCALENDAR