BEGIN:VCALENDAR
VERSION:2.0
PRODID:-//time.now/holidays//NONSGML v1.0//EN
BEGIN:VEVENT
UID:32dde10e-3a19-4d6e-b53d-3cc09f9d75e7
DTSTAMP:20260422T091743Z
DTSTART;VALUE=DATE:20240410
SUMMARY:Eid al-Fitr (Burkina Faso)
END:VEVENT
END:VCALENDAR