BEGIN:VCALENDAR
VERSION:2.0
PRODID:-//time.now/holidays//NONSGML v1.0//EN
BEGIN:VEVENT
UID:bf498f2c-a157-485c-a90e-7a5393b3f0b9
DTSTAMP:20260422T091216Z
DTSTART;VALUE=DATE:20260514
SUMMARY:Ascension Day (Burkina Faso)
END:VEVENT
END:VCALENDAR