BEGIN:VCALENDAR
VERSION:2.0
PRODID:-//time.now/holidays//NONSGML v1.0//EN
BEGIN:VEVENT
UID:a8b5d93c-d0ac-404c-ba3a-9a89d1a8e1dd
DTSTAMP:20260422T105121Z
DTSTART;VALUE=DATE:20271101
SUMMARY:All Saints' Day; Martyrs' Day (observed) (Burkina Faso)
END:VEVENT
END:VCALENDAR