BEGIN:VCALENDAR
VERSION:2.0
PRODID:-//time.now/holidays//NONSGML v1.0//EN
BEGIN:VEVENT
UID:4ac95520-c50e-4bc1-82ec-a9526c368f84
DTSTAMP:20260420T174007Z
DTSTART;VALUE=DATE:20260303
SUMMARY:Liberation Day (Bulgarie)
END:VEVENT
END:VCALENDAR