BEGIN:VCALENDAR
VERSION:2.0
PRODID:-//time.now/holidays//NONSGML v1.0//EN
BEGIN:VEVENT
UID:ad81a11d-0afc-42c4-a245-222354de3a4d
DTSTAMP:20260422T091522Z
DTSTART;VALUE=DATE:20290716
SUMMARY:Sultan Hassanal Bolkiah's Birthday (observed) (Brunei)
END:VEVENT
END:VCALENDAR