BEGIN:VCALENDAR
VERSION:2.0
PRODID:-//time.now/holidays//NONSGML v1.0//EN
BEGIN:VEVENT
UID:c5653e9c-00d7-40f1-9025-38c6a11be577
DTSTAMP:20260420T132625Z
DTSTART;VALUE=DATE:20250906
SUMMARY:Prophet's Birthday (observed) (Brunei)
END:VEVENT
END:VCALENDAR