BEGIN:VCALENDAR
VERSION:2.0
PRODID:-//time.now/holidays//NONSGML v1.0//EN
BEGIN:VEVENT
UID:44a4b86d-aa58-4dfa-bc9c-f08380279d1a
DTSTAMP:20260420T140917Z
DTSTART;VALUE=DATE:20260223
SUMMARY:National Day (Brunei)
END:VEVENT
END:VCALENDAR