BEGIN:VCALENDAR
VERSION:2.0
PRODID:-//time.now/holidays//NONSGML v1.0//EN
BEGIN:VEVENT
UID:85ba520d-4efb-4f44-987a-d00cdc5a4f31
DTSTAMP:20260420T163702Z
DTSTART;VALUE=DATE:20260616
SUMMARY:Islamic New Year (estimated) (Brunei)
END:VEVENT
END:VCALENDAR