BEGIN:VCALENDAR
VERSION:2.0
PRODID:-//time.now/holidays//NONSGML v1.0//EN
BEGIN:VEVENT
UID:1a1fe9ab-5cdc-4b25-b6b4-f1594d1287fd
DTSTAMP:20260420T105715Z
DTSTART;VALUE=DATE:20240413
SUMMARY:Eid al-Fitr (observed) (Brunei)
END:VEVENT
END:VCALENDAR