BEGIN:VCALENDAR
VERSION:2.0
PRODID:-//time.now/holidays//NONSGML v1.0//EN
BEGIN:VEVENT
UID:a1eec08f-f241-432b-9a3f-e5ab24dab02f
DTSTAMP:20260422T193226Z
DTSTART;VALUE=DATE:20260323
SUMMARY:Eid al-Fitr (observed, estimated) (Brunei)
END:VEVENT
END:VCALENDAR