BEGIN:VCALENDAR
VERSION:2.0
PRODID:-//time.now/holidays//NONSGML v1.0//EN
BEGIN:VEVENT
UID:889d65df-810e-4ec5-abd1-7d92fa3eb298
DTSTAMP:20260420T111341Z
DTSTART;VALUE=DATE:20250607
SUMMARY:Eid al-Adha (Brunei)
END:VEVENT
END:VCALENDAR