BEGIN:VCALENDAR
VERSION:2.0
PRODID:-//time.now/holidays//NONSGML v1.0//EN
BEGIN:VEVENT
UID:56c1f2b8-05cf-49cf-b07c-37356165f9d6
DTSTAMP:20260420T015603Z
DTSTART;VALUE=DATE:20260531
SUMMARY:Armed Forces Day (Brunei)
END:VEVENT
END:VCALENDAR